BEGIN:VCALENDAR
VERSION:2.0
PRODID:-//Plone.org//NONSGML plone.app.event//EN
X-WR-TIMEZONE:Brazil/East
BEGIN:VEVENT
SUMMARY:12ª REUNIÃO PLENÁRIA ORDINÁRIA
DTSTART;TZID=Brazil/East;VALUE=DATE-TIME:20240826T180000
DTSTAMP;VALUE=DATE-TIME:20260424T002935Z
UID:3519d855361f4a50b7cb228e1df3d4a0@www.mariocampos.mg.leg.br
CREATED;VALUE=DATE-TIME:20240709T181409Z
LAST-MODIFIED;VALUE=DATE-TIME:20240722T165203Z
LOCATION:PLENÁRIO AGENOR CELSO DA SILVEIRA
URL:https://www.mariocampos.mg.leg.br/institucional/eventos/12a-reuniao-pl
 enaria-ordinaria
END:VEVENT
BEGIN:VTIMEZONE
TZID:Brazil/East
X-LIC-LOCATION:Brazil/East
BEGIN:STANDARD
DTSTART;VALUE=DATE-TIME:20240217T230000
TZNAME:BRT
TZOFFSETFROM:-0200
TZOFFSETTO:-0300
END:STANDARD
END:VTIMEZONE
END:VCALENDAR
