BEGIN:VCALENDAR
VERSION:2.0
PRODID:-//Plone.org//NONSGML plone.app.event//EN
X-WR-TIMEZONE:Brazil/East
BEGIN:VEVENT
SUMMARY:13ª Sessão Plenária 
DTSTART;VALUE=DATE:20210809
DTEND;VALUE=DATE:20210810
DTSTAMP;VALUE=DATE-TIME:20260423T203246Z
UID:430cf02691ec4044bfbef027b055bc4e@www.mariocampos.mg.leg.br
CONTACT:(31) 3577- 2662\, faleconsco@mariocampos.mg.leg.br
CREATED;VALUE=DATE-TIME:20210726T180722Z
LAST-MODIFIED;VALUE=DATE-TIME:20210726T180916Z
URL:https://www.mariocampos.mg.leg.br/institucional/eventos/13a-sessao-ple
 naria-1
END:VEVENT
END:VCALENDAR
